BEGIN:VCALENDAR
VERSION:2.0
CALSCALE:GREGORIAN
PRODID:-//MyApp//Calendar 1.0//EN
BEGIN:VEVENT
METHOD:PUBLISH
UID:34211@regionalniportaly.cz
DTSTAMP:20260422T192303Z
DTSTART;VALUE=DATE:20230805
DTEND;VALUE=DATE:20230819
SUMMARY:25. Mezinárodní hudební festival Petra Dvorského
DESCRIPTION:
LOCATION:Jaroměřice nad Rokytnou
END:VEVENT
END:VCALENDAR