BEGIN:VCALENDAR
VERSION:2.0
CALSCALE:GREGORIAN
PRODID:-//MyApp//Calendar 1.0//EN
BEGIN:VEVENT
METHOD:PUBLISH
UID:34930@regionalniportaly.cz
DTSTAMP:20260421T213000Z
DTSTART;VALUE=DATE:20231012
DTEND;VALUE=DATE:20231013
SUMMARY:LiStOVáNí: Literární hysterie / Karolína Zoe Meixnerová
DESCRIPTION:Ve škole nás naučili\, že Babičku napsala Božena Němcová. Aktivnější učitelé pro zajímavost dodali\, že to byla pěkná rajda\, tedy Božena\, nikoliv Babička. Literární hysterie své hrdiny zbavuje nálepek a popisuje jejich životy tak\, jak skutečně proběhly. Plus mínus.Literatura je sexy\, stejně jako knížka Průvodce literární hysterií 19. století od české influencerky\, popularizátorky literatury Karolíny Zoe Meixnerové\, známé také jako “cojezoe”. Teď se vydává na turné s projektem Listování\, také proto\, aby představila svou poslední knihu\, Národní opruzení.Účinkují:&nbsp\; Karolína Zoe Meixnerová a Pavel OubramVstupné 100 Kč v předprodeji\, 120 Kč na místě. Předprodej v internetové studovně nebo na www.smsticket.cz. Do naplnění kapacity sálu.
LOCATION:Třebíč
END:VEVENT
END:VCALENDAR