BEGIN:VCALENDAR
VERSION:2.0
CALSCALE:GREGORIAN
PRODID:-//MyApp//Calendar 1.0//EN
BEGIN:VEVENT
METHOD:PUBLISH
UID:34971@regionalniportaly.cz
DTSTAMP:20260422T040315Z
DTSTART;VALUE=DATE:20230912
DTEND;VALUE=DATE:20230913
SUMMARY:Trio KUH a Irena Nosková
DESCRIPTION:Trio KUH – Edi Köhldorfer (kytara)\, František Uhlíř (kontrabas) a Jaromír Helešic (bicí) feat. Irena Nosková (zpěv)\nObjev roku 2018! Jazz nejvyšší mezinárodní extratřídy !!\nTrio vzniklo v roce 2018 a tvoří ho vynikající rakouský kytarista žijící ve Vídni s universitním hudebním diplomem klasické a jazzové kytary Edi Köhldorfer\, který mimo Austrálie vystupoval na všech kontinentech\; dále jeden z nejlepších evropských kontrabasistů František Uhlíř\, dlouhá léta člen SHQ Karla Velebného\, Baroque Jazz Q. a bubenická legenda Jaromír Helešic\, hráč ve skupině Luďka Hulana\, Energitu Luboše Andršta\, Pražského Big Bandu Milana Svobody\, Rudolfa Daška. V posledních třech obtížných letech se triu podařilo i přes pandemii absolvovat 120 koncertů u nás\, v Německu\, Rakousku\, Švýcarsku a Lichtenštejnsku.\nHostem tria bude třebíčská rodačka\, zpěvačka Irena Nosková\, nyní žijící v Rakousku. Zpěv a hudba ji provázejí od dětských let – oba rodiče byli učiteli hudební výchovy a aktivní muzikanti. Těžištěm jejího repertoáru jsou především jazzové standardy\, ráda si ale odskočí i do jiných hudebních stylů a všude se pohybuje se stylistickou jistotou a lehkostí. V Rakousku i v České republice vystupuje s různými hudebními formacemi od tria po big band\, nejraději ovšem zpívá v komorním obsazení.\n \nVstupné: 150\,-  \nPředprodej od 15. 8. 2023
LOCATION:Třebíč
END:VEVENT
END:VCALENDAR