BEGIN:VCALENDAR
VERSION:2.0
CALSCALE:GREGORIAN
PRODID:-//MyApp//Calendar 1.0//EN
BEGIN:VEVENT
METHOD:PUBLISH
UID:34972@regionalniportaly.cz
DTSTAMP:20260421T182401Z
DTSTART;VALUE=DATE:20230919
DTEND;VALUE=DATE:20230920
SUMMARY:Jahodové duo
DESCRIPTION:Foyer divadla Pasáž                I. koncert KPH\n18 hodin\nPAVLA Jahodová – violoncello\, JIŘÍ JAHODA - housle\nVyberte si z bohaté nabídky známých melodií v originálních úpravách z klasiky a filmů Tenkrát na západě\, Star Wars\, Forrest Gump\, Pán Prstenů\, Poklad na stříbrném jezeře. Vroucí smyčce\, nové emoce\, pozitivní energie\, příjemné pocity\, ale také vášeň a temperament.\nVstupné: 180\,-  děti\, studenti\, senioři: 140\,-\nPředprodej od 13. 9. 2023
LOCATION:Třebíč
END:VEVENT
END:VCALENDAR