BEGIN:VCALENDAR
VERSION:2.0
CALSCALE:GREGORIAN
PRODID:-//MyApp//Calendar 1.0//EN
BEGIN:VEVENT
METHOD:PUBLISH
UID:34973@regionalniportaly.cz
DTSTAMP:20260423T011140Z
DTSTART;VALUE=DATE:20230928
DTEND;VALUE=DATE:20230929
SUMMARY:Svatováclavský koncert s Virtuosi Trebicenses
DESCRIPTION:Tradiční slavnostní koncert ve spolupráci s třebíčským komorním smyčcovým orchestrem Virtuosi Trebicenses. V koncertním programu zazní sklady od autorů: Antonio Vivaldi\, Josef Suk\, Georg Philip Telemann a Philipp Glass.\nVstupné: 180\,-  děti\, studenti\, senioři: 140\,-\nPředprodej od 31. 8. 2023
LOCATION:Třebíč
END:VEVENT
END:VCALENDAR