BEGIN:VCALENDAR
VERSION:2.0
CALSCALE:GREGORIAN
PRODID:-//MyApp//Calendar 1.0//EN
BEGIN:VEVENT
METHOD:PUBLISH
UID:35099@regionalniportaly.cz
DTSTAMP:20260422T005745Z
DTSTART;VALUE=DATE:20231116
DTEND;VALUE=DATE:20231117
SUMMARY:FUX: KAISERREQUIEM
DESCRIPTION:PROGRAM J. J. Fux: Rekviem K.51\, „Kaiserrequiem“&nbsp\;Vznešené rekviem dvorního kapelníka císaře Josefa I. bylo původně zkomponováno pro pohřeb císařovny Leonory v roce 1720. Díky své křehké a zádumčivé kráse však doprovázelo na věčnost ještě několik dalších členů císařské rodiny.&nbsp\;&nbsp\;ÚČINKUJÍ:Czech Ensemble Baroque Orchestra &amp\; Choir&nbsp\;DIRIGENT: Roman VálekSBORMISTR: Tereza Válková
LOCATION:Třebíč
END:VEVENT
END:VCALENDAR