BEGIN:VCALENDAR
VERSION:2.0
CALSCALE:GREGORIAN
PRODID:-//MyApp//Calendar 1.0//EN
BEGIN:VEVENT
METHOD:PUBLISH
UID:35101@regionalniportaly.cz
DTSTAMP:20260422T064525Z
DTSTART;VALUE=DATE:20231220
DTEND;VALUE=DATE:20231221
SUMMARY:HARMONIA PASTORALIS
DESCRIPTION:PROGRAM:A. V. Michna z Otradovic: Vánoční písněGeorgius Zrunek: Missa 1. pro festis Natalitiis&nbsp\;ÚČINKUJÍ:Czech Ensemble Baroque Orchestra &amp\; ChoirSoli: M. Ptáček\, J. M. Procházka\, J. Kubín a dalšíDirigent: Roman VálekSbormistr: Tereza Válková&nbsp\;Mši F dur\, zkomponoval po dlouhou dobu neznámý hudebník druhé poloviny 18. století\, františkán Georgius Zrunek. Kompozice je jedinečnou kombinací tradiční latinské mše s lidovými prvky. Velmi originální je prolínání sólistů\, komorního sboru a orchestru se zvukem tradičních lidových nástrojů.&nbsp\;
LOCATION:Třebíč
END:VEVENT
END:VCALENDAR