BEGIN:VCALENDAR
VERSION:2.0
CALSCALE:GREGORIAN
PRODID:-//MyApp//Calendar 1.0//EN
BEGIN:VEVENT
METHOD:PUBLISH
UID:35185@regionalniportaly.cz
DTSTAMP:20260422T084535Z
DTSTART;VALUE=DATE:20231012
DTEND;VALUE=DATE:20231013
SUMMARY:LiStOVáNí: Literární hysterie (Karolína Zoe Meixnerová)
DESCRIPTION: \nPředstavení z oblíbeného cyklu scénických čtení LiStOVáNí.\nÚčinkují:  Karolína Zoe Meixnerová a Pavel Oubram\n \nVe škole nás naučili\, že Babičku napsala Božena Němcová. Aktivnější učitelé pro zajímavost dodali\, že to byla pěkná rajda\, tedy Božena\, nikoliv Babička. Literární hysterie své hrdiny zbavuje nálepek a popisuje jejich životy tak\, jak skutečně proběhly. Plus mínus.\nLiteratura je sexy\, stejně jako knížka Průvodce literární hysterií 19. století od české influencerky\, popularizátorky literatury Karolíny Zoe Meixnerové\, známé také jako “cojezoe”. Teď se vydává na turné s projektem Listování\, také proto\, aby představila svou poslední knihu\, Národní opruzení.\n \nMěstská knihovna v Třebíči\, 17:00\, vstupné v předprodeji 100 Kč\, na místě 120 Kč. Do naplnění kapacity sálu. Předprodej v internetové studovně nebo na smsticket.cz.
LOCATION:Třebíč
END:VEVENT
END:VCALENDAR