BEGIN:VCALENDAR
VERSION:2.0
CALSCALE:GREGORIAN
PRODID:-//MyApp//Calendar 1.0//EN
BEGIN:VEVENT
METHOD:PUBLISH
UID:35396@regionalniportaly.cz
DTSTAMP:20260421T180814Z
DTSTART;VALUE=DATE:20230923
DTEND;VALUE=DATE:20230924
SUMMARY:Farma fest Ratibořice
DESCRIPTION:
LOCATION:Jaroměřice nad Rokytnou
END:VEVENT
END:VCALENDAR