BEGIN:VCALENDAR
VERSION:2.0
CALSCALE:GREGORIAN
PRODID:-//MyApp//Calendar 1.0//EN
BEGIN:VEVENT
METHOD:PUBLISH
UID:35745@regionalniportaly.cz
DTSTAMP:20260422T184246Z
DTSTART;VALUE=DATE:20231009
DTEND;VALUE=DATE:20231010
SUMMARY:Albert Frost Trio
DESCRIPTION:BLUES Z JIHOAFRICKÉ REPUBLIKY\n Albert Frost (JAR) – zpěv\, kytara\, Jakub Hlobil (CZ) – baskytara\, Antonín Jína – bicí\nAlbert Frost je jihoafrický bluesový zpěvák\, rockový kytarista a producent\, který vystupuje od roku 1994. V roce 2017 získal cenu SAMA (nejvyšší hudební ocenění v JAR) za nejlepší rockové album roku Sacred Sound. Se svoji kapelou The Blues Broers hraje od roku 1994 od svých 17 let. V Jižní Africe jeho kapela předskakovala opakovaně před Rolling Stones. V Jihoafrické republice je považován za legendu\, v celé zemi se těší neuvěřitelné popularitě. Na turné po ČR bude hrát v triu s českou rytmikou Jakubem Hlobilem a Antonínem Jínou.
LOCATION:Třebíč
END:VEVENT
END:VCALENDAR