BEGIN:VCALENDAR
VERSION:2.0
CALSCALE:GREGORIAN
PRODID:-//MyApp//Calendar 1.0//EN
BEGIN:VEVENT
METHOD:PUBLISH
UID:35830@regionalniportaly.cz
DTSTAMP:20260421T165716Z
DTSTART;VALUE=DATE:20231017
DTEND;VALUE=DATE:20231018
SUMMARY:Od klarinetu k AC / DC
DESCRIPTION:II. KONCERT KRUHU PŘÁTEL HUDBY\n Adam Malík – klarinet\, kytara\, Adam Farana – klavír\nZanícený rocker\, zpěvák\, kytarista\, člen AC/DC revivalové kapely a jeho „druhý hudební domov“ a to nejlepší z klarinetového repertoáru.\n \nV rámci spolupráce se ZUŠ Třebíč vystoupí na začátku koncertu žákyně ZUŠ Kristýna Tomanová – klarinet (ze třídy Václava Sobotky\, DiS.)\, Gabriel Fauré – Pavane op.50\, klavírní doprovod – Bc. Eva Vaňková.
LOCATION:Třebíč
END:VEVENT
END:VCALENDAR