BEGIN:VCALENDAR
VERSION:2.0
CALSCALE:GREGORIAN
PRODID:-//MyApp//Calendar 1.0//EN
BEGIN:VEVENT
METHOD:PUBLISH
UID:35833@regionalniportaly.cz
DTSTAMP:20260421T175047Z
DTSTART;VALUE=DATE:20231031
DTEND;VALUE=DATE:20231101
SUMMARY:Vilém Veverka TrioPlus
DESCRIPTION:V RÁMCI VEČERA BUDE PŘEDÁNA CENA MĚSTA\n„My own Way“ je jeden z nejoriginálnějších hudebních projektů jaký na české scéně kdy byl. Jednak můžeme mluvit o výrazné multižánrové komorní fůzi – na půdorysu hoboj sólo a  trio -\, na straně druhé je specifikem této koncertní performance osobitý „stand-up“ element\, který počítá dokonce s interakcí diváka.\nModerní jevištní platformu\, která je výsledkem dlouholeté koncertní zkušenosti\, dotváří Vilém Veverka spolu s jeho špičkovými kolegy k posluchačsky mimořádně atraktivnímu formátu.\n„Věřím\, že naši posluchači budou odcházet z koncertu s dojmem\, že podobný zážitek z živé akustické hudby ještě neměli“\, říká o své formaci Vilém Veverka.\nKoncert nabídne reflexi fenomenálního Chicka Corey\, který i po svém odchodu zásadně inspiruje hudební scénu. To vše doplněné o hudbu takových hudebních veličin jakými byli Ennio Morricone\, Ástor Piazzolla či Leonard Bernstein\, spolu s hudbou z autorské dílny Martiny Hyblera\, osobního skladatele Viléma Veverky.\n \n \nIntrepreti:\nVilém Veverka – band leader\, hoboj\nMartin Hybler – klávesové nástroje\nJan Kořínek – kontrabas\nTomás Hobzek - bicí
LOCATION:Třebíč
END:VEVENT
END:VCALENDAR