BEGIN:VCALENDAR
VERSION:2.0
CALSCALE:GREGORIAN
PRODID:-//MyApp//Calendar 1.0//EN
BEGIN:VEVENT
METHOD:PUBLISH
UID:35868@regionalniportaly.cz
DTSTAMP:20260422T154926Z
DTSTART;VALUE=DATE:20231104
DTEND;VALUE=DATE:20231105
SUMMARY:Adoptujte strom
DESCRIPTION:
LOCATION:Třebíč
END:VEVENT
END:VCALENDAR