BEGIN:VCALENDAR
VERSION:2.0
CALSCALE:GREGORIAN
PRODID:-//MyApp//Calendar 1.0//EN
BEGIN:VEVENT
METHOD:PUBLISH
UID:35898@regionalniportaly.cz
DTSTAMP:20260421T233155Z
DTSTART;VALUE=DATE:20231112
DTEND;VALUE=DATE:20231113
SUMMARY:Petr Kolář - akustický koncert
DESCRIPTION:Petr&nbsp\;Kolář\, Tajná místaSrdečně vás zveme na DRUHÝ akustický koncert Petra Koláře v okouzlujícím a akusticky výjimečném prostoru nově opraveného kostela sv. Markéty.&nbsp\;&nbsp\;A to dne&nbsp\;12. listopadu 2023 v rámci turné #tajnymistatourNenechte si ujít tento nezapomenutelný hudební zážitek v nádherné barokní perle Vysočiny!&nbsp\;
LOCATION:Jaroměřice nad Rokytnou
END:VEVENT
END:VCALENDAR