BEGIN:VCALENDAR
VERSION:2.0
CALSCALE:GREGORIAN
PRODID:-//MyApp//Calendar 1.0//EN
BEGIN:VEVENT
METHOD:PUBLISH
UID:35901@regionalniportaly.cz
DTSTAMP:20260424T065921Z
DTSTART;VALUE=DATE:20231112
DTEND;VALUE=DATE:20231113
SUMMARY:Současná slovenská poezie z očí do očí / Agadir
DESCRIPTION: \nHudebně-poetické pásmo sestavené z děl šesti současných oceněných slovenských autorek: Mária Bátorová\, Etela Farkašová\, Marta Hlušíková\, Hana Košková\, Zlata Matláková a Ivica Ruttkayová.\n \nDramaturgie: Milena Fucimanová\nHudba: Ondřej Fuciman\nÚčinkují: Hana Buchtová\, Zdeňka Pospíšilová\, Václav Buchta\, Markéta Oumarová\, Ondřej Fuciman\n \nZa finanční podpory Státního fondu kultury České republiky. \n \nMěstská knihovna v Třebíči\, 16:00\, vstup zdarma.
LOCATION:Třebíč
END:VEVENT
END:VCALENDAR