BEGIN:VCALENDAR
VERSION:2.0
CALSCALE:GREGORIAN
PRODID:-//MyApp//Calendar 1.0//EN
BEGIN:VEVENT
METHOD:PUBLISH
UID:36000@regionalniportaly.cz
DTSTAMP:20260422T065248Z
DTSTART;VALUE=DATE:20231105
DTEND;VALUE=DATE:20231106
SUMMARY:LiStOVáNí.cz: Rakovinu nevyléčíš
DESCRIPTION:Představení z oblíbeného cyklu&nbsp\;LiStOVáNí&nbsp\;tentokrát s Lukášem Hejlíkem.&nbsp\;Varování: poslední záchvěv nekorektního humoru z 90. let!Monolog Denise Learyho je bezesporu bombou v repertoáru projektu LiStOVáNí\, dříve patřilo k nejoblíbenějším představením\, teď ho Lukáš Hejlík vrací zpátky na šnůru po republice a těší se na reakce na Learyho smrtící gagy z arzenálu ultračerného humoru. Dynamitové nálože odpálené pod svatými tabu politické korektnosti.&nbsp\; Drogy\, sex\, smrt\, hovězí\, rakovina plic\, Ježíš v McDonaldu\, uříznuté či naopak připevněné penisy navíc... a překvapivě vážný podtext\, jakmile odezní chuť ostrého koření!Účinkuje: Lukáš Hejlík.
LOCATION:Třebíč
END:VEVENT
END:VCALENDAR