BEGIN:VCALENDAR
VERSION:2.0
CALSCALE:GREGORIAN
PRODID:-//MyApp//Calendar 1.0//EN
BEGIN:VEVENT
METHOD:PUBLISH
UID:36045@regionalniportaly.cz
DTSTAMP:20260422T114005Z
DTSTART;VALUE=DATE:20231028
DTEND;VALUE=DATE:20231029
SUMMARY:Ukončení hlavní turistické sezóny
DESCRIPTION:
LOCATION:Třebíč
END:VEVENT
END:VCALENDAR