BEGIN:VCALENDAR
VERSION:2.0
CALSCALE:GREGORIAN
PRODID:-//MyApp//Calendar 1.0//EN
BEGIN:VEVENT
METHOD:PUBLISH
UID:36342@regionalniportaly.cz
DTSTAMP:20260422T051623Z
DTSTART;VALUE=DATE:20231218
DTEND;VALUE=DATE:20231219
SUMMARY:Virtuálně v elektrárně - distribuce elektřiny
DESCRIPTION:Prohlídky jsou zdarma a probíhají v MS Teams. Pro veřejnost je vypsáno několik termínů\, které jsou zároveň streamované na Facebooku Skupiny ČEZ. Registrace na termíny a více informací najdou zájemci na www.virtualnevelektrarne.cz.
LOCATION:Dukovany
END:VEVENT
END:VCALENDAR