BEGIN:VCALENDAR
VERSION:2.0
CALSCALE:GREGORIAN
PRODID:-//MyApp//Calendar 1.0//EN
BEGIN:VEVENT
METHOD:PUBLISH
UID:36431@regionalniportaly.cz
DTSTAMP:20260421T182424Z
DTSTART;VALUE=DATE:20231101
DTEND;VALUE=DATE:20231102
SUMMARY:Petr Erbes\, Boris Jedinák a kolektiv: DISCOLAND
DESCRIPTION:19.00 – Divadlo Pasáž – mimoabonentní představení\nDIVADLO NA ZÁBRADLÍ PRAHA\nHrají: Johana Matoušková\, Jiří Vyorálek\, Václav Vašák\, Petr Čtvrtníček\, Anežka Kubátová\, Kateřina Císařová\, Magdaléna Sidonová\, Barbora Bočková\, Valerie Lobačova. Režie: Petr Erbes\, Boris Jedinák\nInscenace mapující vzpomínky bývalých zaměstnanců\, návštěvníků a dalších pamětníků dnes už legendárního klubu Discoland Sylvie. Zatímco postava majitele klubu Ivana Jonáka je notoricky známá\, o těch „druhých“ netušíme skoro nic. Říká se\, že kdo si pamatuje devadesátky\, ten je neprožil. Ale co když se na tuto dobu snažíme zapomenout i z jiných důvodů...?\nVstupné: 410/440 Kč\nPředprodej od 11. 9. 2023
LOCATION:Třebíč
END:VEVENT
END:VCALENDAR