BEGIN:VCALENDAR
VERSION:2.0
CALSCALE:GREGORIAN
PRODID:-//MyApp//Calendar 1.0//EN
BEGIN:VEVENT
METHOD:PUBLISH
UID:36432@regionalniportaly.cz
DTSTAMP:20260421T195529Z
DTSTART;VALUE=DATE:20231105
DTEND;VALUE=DATE:20231106
SUMMARY:Veselá pouť
DESCRIPTION:16.00 – Divadlo Pasáž – pro rodiče s dětmi\nLOUTKOHERECKÁ SKUPINA LOUDADLO PRAHA\n \nHrají: Ernest Val'ko\, Peter Ďurica a jejich tým. Režie: Peter Ďurica\nLoutkoherecká revue s JŮ a HELE.\nUž samotný název nás zavádí tam\, kam děti s rodiči velice rádi chodí - do světa hudby\, kolotočů a říše cizokrajných zvířat. Na pouti se s vámi setkají také dvě roztomilá strašidla Kryšpín a Táhlo\, ježibaba a neposední hadi. V představení nás navštíví Jů a Hele a společně se přeneseme do míst plných kouzel\, zábavy a legrace. „Hola\, hola\, pouť vás volá!"\nVeselé a výpravné pokračování známé show pro děti od 3 let.\nVstupné dospělí: 140 Kč\; děti: 100 Kč\nPředprodej od 9. 10. 2023
LOCATION:Třebíč
END:VEVENT
END:VCALENDAR