BEGIN:VCALENDAR
VERSION:2.0
CALSCALE:GREGORIAN
PRODID:-//MyApp//Calendar 1.0//EN
BEGIN:VEVENT
METHOD:PUBLISH
UID:36435@regionalniportaly.cz
DTSTAMP:20260422T065258Z
DTSTART;VALUE=DATE:20231122
DTEND;VALUE=DATE:20231123
SUMMARY:Radim Zenkl & Ondra Kozák / Slávek Janoušek & Luboš Vondrák
DESCRIPTION:19.00 – Národní dům – II. koncert Hudební salónu\nOblíbený písničkář Slávek Janoušek zahraje společně s kytaristou Lubošem Vondrákem. V první části pořadu vystoupí mandolínový šampion Radim Zenkl v duu s multiinstrumentalistou Ondrou Kozákem. Slávek Janoušek je přední písničkář známý folkovému publiku již z 80. let. Při studiu na vysoké škole vytvořil dvojici s Lubošem Vondrákem\, s nímž vyhrál díky „divadelnímu folku“\, který si publikum okamžitě oblíbilo i interpretační Portu. Radim Zenkl se během let prožitých v USA vypracoval na předního světového hráče na mandolínu\, později přidal i flétny a didgeridoo. Ondra Kozák patří k našim předním akustickým kytaristům\, hraje také na housle\, dobro a baskytaru. Můžete se těšit na skladby a písně z vlastní tvorby obou hráčů\, doplněné o folkové\, bluegrassové\, swingové a keltské tradicionály v osobitých aranžmá. Větší část programu tvoří zárověň písně\, obsahující sólový zpěv obou hudebníků a jejich vícehlas.\nVstupné: 220/230/240 Kč\nPředprodej od 25. 10. 2023
LOCATION:Třebíč
END:VEVENT
END:VCALENDAR