BEGIN:VCALENDAR
VERSION:2.0
CALSCALE:GREGORIAN
PRODID:-//MyApp//Calendar 1.0//EN
BEGIN:VEVENT
METHOD:PUBLISH
UID:36436@regionalniportaly.cz
DTSTAMP:20260422T111327Z
DTSTART;VALUE=DATE:20231123
DTEND;VALUE=DATE:20231124
SUMMARY:Kamil Střihavka & The Leaders Acoustic Band!
DESCRIPTION:19 hodin - Divadlo Pasáž\nKamil Střihavka – zpěv\, Petr Henych – akustické kytary\, Patrik Sas – bicí nástroje\, David Babka – steel guitar\, Martin Ivan – kontrabas\, Michal Vejskal – klávesy\, Ondřej Klímek – saxofon\, flétna\nKamil Střihavka - rocková legenda oslovující již dvě generace fanoušků\, majitel nezaměnitelného a fenomenálního hlasu vystoupí v akustickém podání s kapelou the Leaders acoustic band!\nVstupné: 350 Kč\nPředprodej od 2. 10. 2023
LOCATION:Třebíč
END:VEVENT
END:VCALENDAR