BEGIN:VCALENDAR
VERSION:2.0
CALSCALE:GREGORIAN
PRODID:-//MyApp//Calendar 1.0//EN
BEGIN:VEVENT
METHOD:PUBLISH
UID:36437@regionalniportaly.cz
DTSTAMP:20260422T082534Z
DTSTART;VALUE=DATE:20231126
DTEND;VALUE=DATE:20231127
SUMMARY:Jiří Pavlica & Hradišťan
DESCRIPTION:19.00 – divadlo Pasáž\nAktuální obsazení Hradišťanu:\nJiří Pavlica – umělecký vedoucí\; housle\, zpěv\, Alice Holubová – zpěv\, David Burda – klarinet\, flétny\, zpěv\, Milan Malina – cimbál\, zpěv\, Roman Gill – kvinton\, zpěv\, Milan Gablas – kontrabas\, zpěv\, Josef Fojta – klávesy\, perkuse\, zpěv\nHRADIŠŤAN &amp\; Jiří Pavlica je ojedinělé seskupení s vysokou uměleckou i interpretační úrovní\, nezvykle širokým žánrovým záběrem a netradičním repertoárem\, který v počátcích vycházel zejména z lidové tradice.\nVíce informací na www.hradistan.cz.\nVstupné: 420/450 Kč\nPředprodej od 9. 10. 2023
LOCATION:Třebíč
END:VEVENT
END:VCALENDAR