BEGIN:VCALENDAR
VERSION:2.0
CALSCALE:GREGORIAN
PRODID:-//MyApp//Calendar 1.0//EN
BEGIN:VEVENT
METHOD:PUBLISH
UID:36440@regionalniportaly.cz
DTSTAMP:20260422T081437Z
DTSTART;VALUE=DATE:20231201
DTEND;VALUE=DATE:20231202
SUMMARY:Eric Assous: ŠTĚSTÍ
DESCRIPTION:19.00 – Národní dům – mimoabonentní představení\nDIVADLO PALACE PRAHA\nHrají: Lucie Vondráčková\, Hynek Čermák. Režie: Ondřej Zajíc\nKomedie pro muže a ženu. Svižná\, vtipná\, nepostrádá ale vážnější tóny.\nNejspíš to znáte sami. Náhodné setkání vás svede dohromady s někým\, kdo vás nesmírně přitahuje. Drobným problémem je\, že vaše světonázory jsou zcela\, ale zcela neslučitelné. Luisa je svobodná spisovatelka. Alexander je majitel restaurace uprostřed rozvodu. Luisa nemá žádné děti. Alexander má tři dcery. Luisa má mnoho zájmů. Alexander se\, kromě žen a své restaurace\, nezajímá o nic. Spojuje je snad jen strach ze stárnutí a ze samoty... a rozhodnutí\, že zkusí štěstí spolu. A tehdy se Alexander dozví to poslední\, co by chtěl v počátcích nového života slyšet...\nVstupné: 390/420/450 Kč\nPředprodej od 2. 10. 2023
LOCATION:Třebíč
END:VEVENT
END:VCALENDAR