BEGIN:VCALENDAR
VERSION:2.0
CALSCALE:GREGORIAN
PRODID:-//MyApp//Calendar 1.0//EN
BEGIN:VEVENT
METHOD:PUBLISH
UID:36442@regionalniportaly.cz
DTSTAMP:20260422T051706Z
DTSTART;VALUE=DATE:20231210
DTEND;VALUE=DATE:20231211
SUMMARY:Travesti skupina Screamers
DESCRIPTION:TRAVESTI SKUPINA SCREAMERS „VE VÍRU VELKOMĚSTA“\nScreamersáci opět v akci! Legendární travesti-divadelní skupina přiváží nové představení\, které bude netradiční\, strhující a hlavně zábavnou sondou do života jednoho obyčejného velkoměsta\, kde i všední den může nabídnout mnoho nevšedních zážitků.\nVstupné: 250/280 Kč\; děti\, senioři: 200/230 Kč\nPředprodej od 4. 9. 2023
LOCATION:Třebíč
END:VEVENT
END:VCALENDAR