BEGIN:VCALENDAR
VERSION:2.0
CALSCALE:GREGORIAN
PRODID:-//MyApp//Calendar 1.0//EN
BEGIN:VEVENT
METHOD:PUBLISH
UID:37367@regionalniportaly.cz
DTSTAMP:20260422T082338Z
DTSTART;VALUE=DATE:20240107
DTEND;VALUE=DATE:20240108
SUMMARY:Novoroční koncert
DESCRIPTION:Srdečně vás zveme na novoroční koncert&nbsp\;v kostele svaté Markéty v Jaroměřicích nad Rokytnou 7. 1. od 16:00 hodin.Nenechte si ujít tento jedinečný hudební zážitek&nbsp\;propojený s poezií v tak výjimečném prostoru\,&nbsp\;jakým je&nbsp\;barokní perla Vysočiny!&nbsp\;&nbsp\;FF ensemble je vokálně instrumentální soubor profesionálních interpretů\, absolventů Hudební akademie múzických umění v Praze a v Brně\, zaměřujících se především na autorskou tvorbu. V repertoiru souboru však nechybí ani zdařilá aranžmá či transkripce děl ze zlatého fondu české i evropské hudební kultury.Na svých projektech soubor pravidelně spolupracuje s Pavlem Šimčíkem\, členem uměleckého souboru Dejvického divadla. Velmi žádaný je vánoční program\, složený z nejkrásnějších staročeských koled\, propojený vánočními biblickými texty a verši Jaroslava Seiferta a Václava Renče. Soubor vystupuje ve složení smíšeného pěveckého kvartetu\, příčné flétny\, violy\, violoncella a klavíru. Zakladatelem a uměleckým vedoucím souboru je český hudební skladatel\, sbormistr a varhaník František Fiala.
LOCATION:Jaroměřice nad Rokytnou
END:VEVENT
END:VCALENDAR