BEGIN:VCALENDAR
VERSION:2.0
CALSCALE:GREGORIAN
PRODID:-//MyApp//Calendar 1.0//EN
BEGIN:VEVENT
METHOD:PUBLISH
UID:37368@regionalniportaly.cz
DTSTAMP:20260422T084531Z
DTSTART;VALUE=DATE:20231230
DTEND;VALUE=DATE:20231231
SUMMARY:Zvonky pro radost - vánoční koncert
DESCRIPTION:LÍSTKY BUDE MOŽNÉ SI ZAKOUPIT I NA MÍSTĚ KONÁNÍ.Srdečně vás zveme na výjimečný vánoční koncert v kostele svaté Markéty v Jaroměřicích nad Rokytnou\, kde 30.12. 2023 od 18:00 vystoupí&nbsp\;soubor "Zvonky pro radost" \, ze&nbsp\;základní umělecké školy Hrotovice&nbsp\;pod&nbsp\;vedením Ivany Šumpelové.Nenechte si ujít tento jedinečný vánoční zážitek znějících zvonů v tak výjimečném prostoru\,&nbsp\;jakým je&nbsp\;barokní perla Vysočiny!&nbsp\;&nbsp\;
LOCATION:Jaroměřice nad Rokytnou
END:VEVENT
END:VCALENDAR