BEGIN:VCALENDAR
VERSION:2.0
CALSCALE:GREGORIAN
PRODID:-//MyApp//Calendar 1.0//EN
BEGIN:VEVENT
METHOD:PUBLISH
UID:37427@regionalniportaly.cz
DTSTAMP:20260422T064635Z
DTSTART;VALUE=DATE:20240120
DTEND;VALUE=DATE:20240121
SUMMARY:Ples HALAHOJE
DESCRIPTION:Po dlouhých pěti&nbsp\;letech je zde opět PLES HALAHOJE aneb jednou za rok všichni spolu!Přijďte si zatančit\, popovídat\, vyhrát něco pěkného nebo bizarního v tombole...Těšíme se na Vás!
LOCATION:Třebíč
END:VEVENT
END:VCALENDAR