BEGIN:VCALENDAR
VERSION:2.0
CALSCALE:GREGORIAN
PRODID:-//MyApp//Calendar 1.0//EN
BEGIN:VEVENT
METHOD:PUBLISH
UID:37502@regionalniportaly.cz
DTSTAMP:20260421T205603Z
DTSTART;VALUE=DATE:20240205
DTEND;VALUE=DATE:20240206
SUMMARY:Duo Jamaha "Roztočíme to tour"
DESCRIPTION:Koncertní turné hudební skupiny DUO JAMAHA\, kde zazní nejen novinky z nově připravovaného alba\, ale i pecky ze stále aktuálního CD a nebudou chybět ani starší hity a šlágry\, které znáte z TV Šlágr. Na koncertě kromě melodických temperamentních písní nechybí pravý záhorácký humor\, Stand-up vystoupení jednoho z členů této skupiny zaručuje skvělou zábavu!\n1.   12. 2023
LOCATION:Třebíč
END:VEVENT
END:VCALENDAR