BEGIN:VCALENDAR
VERSION:2.0
CALSCALE:GREGORIAN
PRODID:-//MyApp//Calendar 1.0//EN
BEGIN:VEVENT
METHOD:PUBLISH
UID:37503@regionalniportaly.cz
DTSTAMP:20260421T205518Z
DTSTART;VALUE=DATE:20240207
DTEND;VALUE=DATE:20240208
SUMMARY:Miloš Meier Drumming Syndrome
DESCRIPTION:Divadlo Pasáž v 19 hodin\nBubeník metalových Dymytry Miloš Meier vás zve na vystoupení svého bubenického one-man show projektu s názvem "Drumming Syndrome". Představí speciální program rozdělený do dvou částí\, ve kterých se můžete těšit na osobitě upravené rockové a metalové světové hity\, bubenická sóla\, filmové soundtracky\, unplugged část i na odklony do dalších hudebních žánrů.\nVysoká hráčská technika a zkušenosti z hraní např. s Michalem Pavlíčkem\, Kamilem Střihavkou\, Supergroup.cz\, Danielem Landou\, BSP\, Stromboli nebo Gusem G. a bubnování s tímto vystupením na prestižních bubenických festivalech po celém světě\, dávají předpovídat výjimečnému hudebnímu zážitku. Očekávejte originální\, výbušnou a nesmírně energickou show!\n 
LOCATION:Třebíč
END:VEVENT
END:VCALENDAR