BEGIN:VCALENDAR
VERSION:2.0
CALSCALE:GREGORIAN
PRODID:-//MyApp//Calendar 1.0//EN
BEGIN:VEVENT
METHOD:PUBLISH
UID:37504@regionalniportaly.cz
DTSTAMP:20260422T064647Z
DTSTART;VALUE=DATE:20240218
DTEND;VALUE=DATE:20240219
SUMMARY:Štístko a poupěnka - Pojď si hrát!
DESCRIPTION:Zveme vás na zbrusu nové představení Pojď si hrát. Zazpíváme si písničky z našeho nového filmu jako Skáčeme nebo Loleta Popleta. Dočkáte se i oblíbených hitů Jojojo\, nenene\, Brontosaurus nebo Hakuna Matata.\n4. 12. 2023
LOCATION:Třebíč
END:VEVENT
END:VCALENDAR