BEGIN:VCALENDAR
VERSION:2.0
CALSCALE:GREGORIAN
PRODID:-//MyApp//Calendar 1.0//EN
BEGIN:VEVENT
METHOD:PUBLISH
UID:37505@regionalniportaly.cz
DTSTAMP:20260422T081507Z
DTSTART;VALUE=DATE:20240226
DTEND;VALUE=DATE:20240227
SUMMARY:Zábavná show Ivo Šmoldase
DESCRIPTION:Hosté: VAŠEK KOPTA a MARIE FORMÁČKOVÁ\nZveme Vás na zábavný pořad filozofa\, básníka\, kulturního publicisty a scenáristy Ivo Šmoldase a jeho hosta muzikanta\, baviče\, moderátora\, textaře  a herce Václava Kopty.\nPořad je založený na humorném a originálním vyprávění životních příběhů jak ze soukromého\, tak pracovního života Ivo Šmoldase a jeho hostů. Moderuje spisovatelka Marie Formáčková.\n4. 12. 2023
LOCATION:Třebíč
END:VEVENT
END:VCALENDAR