BEGIN:VCALENDAR
VERSION:2.0
CALSCALE:GREGORIAN
PRODID:-//MyApp//Calendar 1.0//EN
BEGIN:VEVENT
METHOD:PUBLISH
UID:37507@regionalniportaly.cz
DTSTAMP:20260421T194426Z
DTSTART;VALUE=DATE:20240403
DTEND;VALUE=DATE:20240404
SUMMARY:Agentura Fanny Praha: Sexem ke štěstí - přeloženo na 22. 5. 2024 !!!
DESCRIPTION:Pikantní komedie o ochladlých vztazích a sexcoachingu. Stella je skutečnou odbornicí na oživení intimních manželských hrátek. Proto se na ni obrátí stárnoucí Norbert\, který není spokojen s intimním soužitím se svou mladší manželkou Hedvikou... Přestože v představení nepadne jediné vulgární (ba ani ošklivé) slovo\, doporučujeme jej mládeži až od 15ti let.\n1.   12. 2023\nZ důvodu nemoci Martiny Hudečkové je představení Sexem ke štěstí (3. 4. 2024 - Národní dům) zrušené a bude odehráno v náhradním termínu 22. května 2024\, zakoupené vstupenky zůstávají v platnosti.
LOCATION:Třebíč
END:VEVENT
END:VCALENDAR