BEGIN:VCALENDAR
VERSION:2.0
CALSCALE:GREGORIAN
PRODID:-//MyApp//Calendar 1.0//EN
BEGIN:VEVENT
METHOD:PUBLISH
UID:37508@regionalniportaly.cz
DTSTAMP:20260422T065308Z
DTSTART;VALUE=DATE:20240406
DTEND;VALUE=DATE:20240407
SUMMARY:Wohnout - Uplugged
DESCRIPTION:Wohnouti vyráží na turné do divadel !!\nSkupina Wohnout převlékne koncertní šňůru do akustického obleku a vyrazí na unplugged tour. Historicky druhá unplugged sezóna oblíbené české kapely Wohnout zavítá do čtrnácti měst\, Wohnouti \; představí své písně v upravených akustických verzích. Potvrzeným hostem je houslista Vojta Lavička. Kapela láká na nové aranže a divadelní scénu.\n4. 12. 2023
LOCATION:Třebíč
END:VEVENT
END:VCALENDAR