BEGIN:VCALENDAR
VERSION:2.0
CALSCALE:GREGORIAN
PRODID:-//MyApp//Calendar 1.0//EN
BEGIN:VEVENT
METHOD:PUBLISH
UID:37510@regionalniportaly.cz
DTSTAMP:20260422T095650Z
DTSTART;VALUE=DATE:20240427
DTEND;VALUE=DATE:20240428
SUMMARY:Divadlo Spejbla a Hurvínka Praha: Hurvínkova cesta do tramtárie
DESCRIPTION:Kam se to ti dva zase dostali! Stačilo jen\, aby se Hurvínek trochu nastydl\, Mánička mu předčítala z pohádkové knížky\, a už to celé začalo. Ocitli se totiž v zemi plné žíznivých květin\, kde vládla protivná princezna Gerbera. Ještě se ani nestačili rozkoukat\, a už jim uvěznila Žeryčka! Jak si s tím oba poradili\, to v pohádce o koloběhu vody v přírodě sami uvidíte.\n4. 12. 2023
LOCATION:Třebíč
END:VEVENT
END:VCALENDAR