BEGIN:VCALENDAR
VERSION:2.0
CALSCALE:GREGORIAN
PRODID:-//MyApp//Calendar 1.0//EN
BEGIN:VEVENT
METHOD:PUBLISH
UID:37511@regionalniportaly.cz
DTSTAMP:20260424T081458Z
DTSTART;VALUE=DATE:20240822
DTEND;VALUE=DATE:20240823
SUMMARY:Tros Discotequos
DESCRIPTION:Vojta Dyk - zpěv | Jan Maxián - klávesy\, zpěv | Jakub Prachař - bicí\, zpěv\nPředkapela: CARIBE – kubánská kapela\nNejde o obvyklou podobu koncertu. Pánové z Tros Discotequos hrají jakékoliv písně či hity ze zahraničí a užívají si hudbu v netradiční formě. Provedení písní se odvíjí od atmosféry večera\, nálady publika\, souznění s kapelou a v neposlední řadě přání diváků. Hudební škála žánrů je takřka neomezená. V průběhu večera si sami diváci mohou určit a rozhodnout\, jaké písně zazní. Zábavné provedení\, brilantní zpěv\, jedinečná harmonie\, dokonalý rytmus. Koktejl nakažlivé radosti z muziky a společného setkání. Upřímné\, otevřené a osvobozující chvíle s hudbou\, skvělou náladou a radostí ze života a společného zážitku...\n4. 12. 2023
LOCATION:Třebíč
END:VEVENT
END:VCALENDAR