BEGIN:VCALENDAR
VERSION:2.0
CALSCALE:GREGORIAN
PRODID:-//MyApp//Calendar 1.0//EN
BEGIN:VEVENT
METHOD:PUBLISH
UID:37641@regionalniportaly.cz
DTSTAMP:20260422T051613Z
DTSTART;VALUE=DATE:20240120
DTEND;VALUE=DATE:20240121
SUMMARY:HRADIŠŤAN & Jiří Pavlica
DESCRIPTION:Srdečně vás zveme na&nbsp\;koncert&nbsp\;seskupení HRADIŠŤAN&nbsp\;&amp\; Jiří Pavlica&nbsp\;v jedinečném prostoru barokního kostele svaté Markéty v Jaroměřicích nad Rokytnou.Nenechte si ujít tento jedinečný&nbsp\;zážitek&nbsp\; v tak výjimečném prostoru\,&nbsp\;jakým je&nbsp\;barokní perla Vysočiny!&nbsp\;HRADIŠŤAN&nbsp\;&amp\; Jiří Pavlica&nbsp\;je ojedinělé seskupení s vysokou uměleckou i interpretační úrovní\, nezvykle širokým žánrovým záběrem a netradičním repertoárem\, který v počátcích vycházel zejména z&nbsp\;lidové tradice.
LOCATION:Jaroměřice nad Rokytnou
END:VEVENT
END:VCALENDAR