BEGIN:VCALENDAR
VERSION:2.0
CALSCALE:GREGORIAN
PRODID:-//MyApp//Calendar 1.0//EN
BEGIN:VEVENT
METHOD:PUBLISH
UID:37950@regionalniportaly.cz
DTSTAMP:20260422T051724Z
DTSTART;VALUE=DATE:20240125
DTEND;VALUE=DATE:20240126
SUMMARY:Cestopisná přednáška Skotsko - Patrik Dekan
DESCRIPTION:Skotsko: "Skandinávie okořeněná britskou historií"\nV průběhu fotoprezentace uvidíte množství přírodních zajímavostí\, památek a historických lokalit. Pomocí obrázků se budeme pohybovat v krajině nádherné Skotské vysočiny plné jezer\, pohoří i luk s pasoucími se stády ovcí a skotským dobytkem. Pomyslně vystoupíme na nejvyšší vrchol britských ostrovů Ben Nevis\, poznáme pohoří Grampians Mountains\, malebný ostrov Skye i milovanou oblast Skotů - údolí Glen Coe. Získáme přehled v značkách místní whisky. Zastavíme se u nejznámějších skotských hradů Eilean Donan a zříceniny Urquart Castle na břehu tajemného jezera Loch Ness. Samozřejmě nevynecháme ani prohlídku hlavního města Edinburgh s promenádou Royal Mile.\nPřírodou Skotska Vás provede průvodce CK Periscope Patrik Dekan.
LOCATION:Třebíč
END:VEVENT
END:VCALENDAR