BEGIN:VCALENDAR
VERSION:2.0
CALSCALE:GREGORIAN
PRODID:-//MyApp//Calendar 1.0//EN
BEGIN:VEVENT
METHOD:PUBLISH
UID:38246@regionalniportaly.cz
DTSTAMP:20260422T091934Z
DTSTART;VALUE=DATE:20240130
DTEND;VALUE=DATE:20240131
SUMMARY:LiStOVáNí.cz: Holčička a cigareta (Benoît Duteurtre)
DESCRIPTION:Představení z oblíbeného cyklu scénických čtení.&nbsp\;Kniha\, kterou napsal Benoît Duteurtre\, velký přítel Milana Kundery\, už v roce 2008\, je až strašidelně nadčasová. Mnohé z toho\, z čeho si tehdy dělal cynickou legraci\, se opravdu stalo až se zarážející přesností.&nbsp\;&nbsp\;Proti světu plovoucímu v katastrofálně znečištěném vzduchu a zavalovanému všemožnými zákazy\, proti vládě nevychovaných emancipovaných dětiček se hrdina knihy\, čtyřicátník zaměstnaný na magistrátě\, dětinsky bouří: v práci si chodí na záchod potají vykouřit cigaretu. Je přistižen pětiletou holčičkou a tím pro něj začíná pekelná spirála vyšetřování\, věznění a marné snahy obhájit se účastí v apokalyptické televizní reality show MartýrSuperStar.&nbsp\;Účinkují: Petra Bučková a Lukáš Hejlík.
LOCATION:Třebíč
END:VEVENT
END:VCALENDAR