BEGIN:VCALENDAR
VERSION:2.0
CALSCALE:GREGORIAN
PRODID:-//MyApp//Calendar 1.0//EN
BEGIN:VEVENT
METHOD:PUBLISH
UID:38262@regionalniportaly.cz
DTSTAMP:20260422T064534Z
DTSTART;VALUE=DATE:20240117
DTEND;VALUE=DATE:20240118
SUMMARY:Robert Křesťan a Druhá tráva
DESCRIPTION:Koncert legendy folk\, country a bluegrassové scény ku příležitosti vydání nového CD Díl druhý.\nZa toto album (stejně jako za Díl první) získala v roce 2023 Druhá tráva Cenu Anděl v kategorii folk!\nZatímco na „jedničce“ převažovaly převzaté skladby\, dvojka je postavená na autorských věcech. I v tomto případě skupina v čele s frontmanem Robertem Křesťanem přizvala producenta Eddieho Stevense\, známého především spolupracemi s britskými tanečními kapelami. Jeho experimentální přístup posunul svébytný akustický zvuk Druhé trávy do jiných kontextů. V Birdland Studios na úpatí slovenských Súľovských vrchů se nebál do aranží zapojit klávesové nástroje\, syntezátory\, netradiční studiové efekty nebo kapelu posunout až za hranici její komfortní zóny.\nOdkaz na tiskovou zprávu: https://www.lidovky.cz/orientace/kultura/druha-trava-na-novince-sazi-na-vlastni-skladby-prvni-singl-venuje-indianskemu-nacelnikovi.A221009_220703_ln_kultura_bez\nDruhá tráva - přední česká kapela\, která se během let odchýlila od původního moderního bluegrassu k nadžánrovému výrazu a řadí se mezi špičku na české scéně.\nAktuální koncertní program Druhé trávy zahrnuje průřez tvorby Roberta Křesťana z celé doby existence skupiny\, nyní s důrazem na skladby z posledních studiových alb Díl první a nově také Díl druhý.\n  \nSkupina Druhá tráva hraje v současné době ve složení:\nRobert Křesťan - sólový zpěv\, mandolína\, kytara\nLuboš Malina - banjo\, irské píšťaly\, tenor saxofon\, vokály\nLuboš Novotný - dobro\, lap steel\, vokály\nRadek Hlávka - kytara\, vokály\nTomáš Liška – kontrabas\, basová kytara\nMartin Novák - bicí\, perkuse\, cajon\n \nVíce informací najdete na:\nhttp://www.druhatrava.cz\nwww.facebook.com/druhatrava
LOCATION:Třebíč
END:VEVENT
END:VCALENDAR