BEGIN:VCALENDAR
VERSION:2.0
CALSCALE:GREGORIAN
PRODID:-//MyApp//Calendar 1.0//EN
BEGIN:VEVENT
METHOD:PUBLISH
UID:38263@regionalniportaly.cz
DTSTAMP:20260422T064553Z
DTSTART;VALUE=DATE:20240124
DTEND;VALUE=DATE:20240125
SUMMARY:Juwana Jenkins Blues Band
DESCRIPTION:Juwana Jenkins – sólový zpěv\, Kuba Zomer – klávesy a zpěv\, Jiří Maršíček – kytara a zpěv\, Marcus Jurkovič – bicí\nKoncert průbojné Afroameričanky a pódiové tygřice\, co chtěla být zpěvačkou už jako malá holka. Od dětství má v srdci i hlavě mnoho skvělé hudby\, která se vyvinula z blues\, soulu\, funku\, rapu a hip-hopu na ulicích Filadelfie.
LOCATION:Třebíč
END:VEVENT
END:VCALENDAR