BEGIN:VCALENDAR
VERSION:2.0
CALSCALE:GREGORIAN
PRODID:-//MyApp//Calendar 1.0//EN
BEGIN:VEVENT
METHOD:PUBLISH
UID:38672@regionalniportaly.cz
DTSTAMP:20260422T005805Z
DTSTART;VALUE=DATE:20240224
DTEND;VALUE=DATE:20240225
SUMMARY:Velký kouzelnický karneval
DESCRIPTION:Přijďte si užít zábavné a kouzelné odpoledne do školy čar a kouzel na Fóru v Třebíči. V programu vystoupí se svojí školou kouzel iluzionista Pavel Dolejška. Všechny masky vítány!\nVstupné: 100 Kč děti\, 130 Kč dospělí\, děti do 2 let zdarma\nPředprodej od 16. 1. 2024 u pokladny Národního domu Třebíč\, Karlovo náměstí 47.
LOCATION:Třebíč
END:VEVENT
END:VCALENDAR