BEGIN:VCALENDAR
VERSION:2.0
CALSCALE:GREGORIAN
PRODID:-//MyApp//Calendar 1.0//EN
BEGIN:VEVENT
METHOD:PUBLISH
UID:38677@regionalniportaly.cz
DTSTAMP:20260422T051604Z
DTSTART;VALUE=DATE:20240206
DTEND;VALUE=DATE:20240207
SUMMARY:Guatemala a Kolumbie
DESCRIPTION:Cestovatelská stand up projekce Tomáše Štěpána. Cestování během covidu sebou neslo potíže navíc\, ale cesta do Kolumbie a Guatemaly Kolumbie a Guatemaly byla pro Tomáše vysvobozením. Divoké pětitisícové hory\, koloniální městečka\, karibské pobřeží\, sopečné erupce na dosah ruky\, potomci bájných Mayů\, pravé vandrování.Ochutnávka pravé kolumbijské kávy zdarma. 
LOCATION:Třebíč
END:VEVENT
END:VCALENDAR