BEGIN:VCALENDAR
VERSION:2.0
CALSCALE:GREGORIAN
PRODID:-//MyApp//Calendar 1.0//EN
BEGIN:VEVENT
METHOD:PUBLISH
UID:39134@regionalniportaly.cz
DTSTAMP:20260421T192126Z
DTSTART;VALUE=DATE:20240208
DTEND;VALUE=DATE:20240630
SUMMARY:Výstava Antonín Kalina a děti Buchenwaldu
DESCRIPTION:
LOCATION:Třebíč
END:VEVENT
END:VCALENDAR