BEGIN:VCALENDAR
VERSION:2.0
CALSCALE:GREGORIAN
PRODID:-//MyApp//Calendar 1.0//EN
BEGIN:VEVENT
METHOD:PUBLISH
UID:39440@regionalniportaly.cz
DTSTAMP:20260422T065329Z
DTSTART;VALUE=DATE:20240303
DTEND;VALUE=DATE:20240304
SUMMARY:Trio Ireny Noskové
DESCRIPTION:Přijďte si poslechnout medový hlas zpěvačky Ireny Noskové ve spojení s minimalistickým kytarovým doprovodem\, tóny klarinetu a sóly na příčnou flétnu\, které celku dodávají křehkost karamelové makronky. Hranice jazzu bude s lehkostí překročena různými směry podle toho\, kam nás povedou texty písní či příběhy s nimi spojené. Překvapení vyhrazeno.Obsazení:Dan Matějka – kytara\,Tereza Leváková – flétna\, celloJana Novotná – klarinet
LOCATION:Třebíč
END:VEVENT
END:VCALENDAR