BEGIN:VCALENDAR
VERSION:2.0
CALSCALE:GREGORIAN
PRODID:-//MyApp//Calendar 1.0//EN
BEGIN:VEVENT
METHOD:PUBLISH
UID:39494@regionalniportaly.cz
DTSTAMP:20260422T051635Z
DTSTART;VALUE=DATE:20240303
DTEND;VALUE=DATE:20240304
SUMMARY:LiStOVáNí.cz: Zahrada (Jiří Trnka)
DESCRIPTION:Projekt LiStOVáNí ve spolupráci s nakladatelstvím Studio Trnka uvádí slavnou knihu vynikajícího výtvarníka Jiřího Trnky Zahrada.&nbsp\;&nbsp\;Ta patří mezi díla\, která léta oslovují děti stejně jako dospělé. Má své kouzlo\, poezii i humor. Pohádku Trnka nejen ilustroval\, ale sám i napsal. Pět kluků otevře starou rozvrzanou branku a vejdou do krásné zahrady\, kde potkat starého moudrého trpaslíka\, zlomyslného kocoura a odhalují rozličná tajemství.Účinkují: Věra Hollá\, Pavel Oubram a Tomáš Drápela &nbsp\;Předprodej na smsticket.cz nebo v internetové studovně.Vstupné 50 Kč děti\, 120 Kč dospělí v předprodeji\, 140 Kč na místě.
LOCATION:Třebíč
END:VEVENT
END:VCALENDAR