BEGIN:VCALENDAR
VERSION:2.0
CALSCALE:GREGORIAN
PRODID:-//MyApp//Calendar 1.0//EN
BEGIN:VEVENT
METHOD:PUBLISH
UID:39655@regionalniportaly.cz
DTSTAMP:20260421T220905Z
DTSTART;VALUE=DATE:20240221
DTEND;VALUE=DATE:20240414
SUMMARY:Výstava Cesta světla
DESCRIPTION:
LOCATION:Třebíč
END:VEVENT
END:VCALENDAR