BEGIN:VCALENDAR
VERSION:2.0
CALSCALE:GREGORIAN
PRODID:-//MyApp//Calendar 1.0//EN
BEGIN:VEVENT
METHOD:PUBLISH
UID:40256@regionalniportaly.cz
DTSTAMP:20260421T144447Z
DTSTART;VALUE=DATE:20240306
DTEND;VALUE=DATE:20240318
SUMMARY:Festival divadla 2-3-4 herců
DESCRIPTION:
LOCATION:Třebíč
END:VEVENT
END:VCALENDAR