BEGIN:VCALENDAR
VERSION:2.0
CALSCALE:GREGORIAN
PRODID:-//MyApp//Calendar 1.0//EN
BEGIN:VEVENT
METHOD:PUBLISH
UID:40697@regionalniportaly.cz
DTSTAMP:20260421T115832Z
DTSTART;VALUE=DATE:20240323
DTEND;VALUE=DATE:20240324
SUMMARY:Třebíčské loutkářské jaro 2024
DESCRIPTION:56. ROČNÍK KRAJSKÉ PŘEHLÍDKY AMATÉRSKÝCH LOUTKÁŘSKÝCH SOUBORŮ\n SOBOTA 23. 3. 2024\n10:00 - 10:40 (malý sál) - O PEJSKOVI A KOČIČCE - Loutkové divadlo Humpolec\, pro děti od 3 let\n11:00 - 11:30 (velký sál) - DĚTI Z BULLERBYNU - LDO ZUŠ Kroměříž\, pro děti od 6 let\n13:15 - 13:45 (malý sál) - PELHŘIMOVSKÉ POVĚSTI - DS Struhadlo DDM Pelhřimov\, pro děti od 3 let\n14:00 - 14:45 (velký sál) - HONZA A DRAK - Loutkové divadlo Oblázek Krucemburk\, pro děti od 3 let\n15:00 - 15:45 (malý sál) - KOCOUR V BOTÁCH - Loutkové divadlo T.J.Sokol Uherské Hradiště\, pro děti od 3 let\n16:30 - 17:15 (malý sál) - POPELKA - Loutkové divadlo T.J.Sokol Uherské Hradiště\, pro děti od 3 let\n \nNEDĚLE 24. 3. 2024\n10:00 - 10:30 (malý sál) - ZLATÉ KVĚTY - DS Bedruňka Brno\, pro děti od 6 let\n11:00 - 11:40 (velký sál) - O STARÉ VALŠE - KIKSYLEND Moravský Krumlov\, pro děti od 3 let\n13:15 - 13:45 (malý sál) - ČERVENÁ KARKULKA - DS Poklad Hlinsko - pro děti od 3 let\n \nVstupné na jednotlivá představení: 50 KčPředprodej od 11. 3. 2024 u pokladny Národního domu\, Karlovo nám. 58/47\, Třebíč - tel.: 568 610 013.
LOCATION:Třebíč
END:VEVENT
END:VCALENDAR