BEGIN:VCALENDAR
VERSION:2.0
CALSCALE:GREGORIAN
PRODID:-//MyApp//Calendar 1.0//EN
BEGIN:VEVENT
METHOD:PUBLISH
UID:40719@regionalniportaly.cz
DTSTAMP:20260422T082543Z
DTSTART;VALUE=DATE:20240330
DTEND;VALUE=DATE:20241031
SUMMARY:Třebíč Nuclears Baseball - sezónní permanentka 2024
DESCRIPTION:Přijďte podpořit svůj tým\, zažít nezapomenutelné chvíle a slavit vítězství Nuclears na jejich domácím hřišti. Těšíme se na vás Na Hvězdě.&nbsp\;Co můžete očekávat na našich zápasech?Nejlepší baseball na VysočiněNejmodernější&nbsp\;stadion&nbsp\;na Vysočině.&nbsp\;Super jídlo\,&nbsp\;pití a výborné pivo z&nbsp\;Plzně&nbsp\;
LOCATION:Třebíč
END:VEVENT
END:VCALENDAR